BEGIN:VCALENDAR
VERSION:2.0
PRODID:-//Good Vibes Winery - ECPv6.15.20//NONSGML v1.0//EN
CALSCALE:GREGORIAN
METHOD:PUBLISH
X-WR-CALNAME:Good Vibes Winery
X-ORIGINAL-URL:https://www.goodvibeswinery.com
X-WR-CALDESC:Events for Good Vibes Winery
REFRESH-INTERVAL;VALUE=DURATION:PT1H
X-Robots-Tag:noindex
X-PUBLISHED-TTL:PT1H
BEGIN:VTIMEZONE
TZID:America/New_York
BEGIN:DAYLIGHT
TZOFFSETFROM:-0500
TZOFFSETTO:-0400
TZNAME:EDT
DTSTART:20250309T070000
END:DAYLIGHT
BEGIN:STANDARD
TZOFFSETFROM:-0400
TZOFFSETTO:-0500
TZNAME:EST
DTSTART:20251102T060000
END:STANDARD
BEGIN:DAYLIGHT
TZOFFSETFROM:-0500
TZOFFSETTO:-0400
TZNAME:EDT
DTSTART:20260308T070000
END:DAYLIGHT
BEGIN:STANDARD
TZOFFSETFROM:-0400
TZOFFSETTO:-0500
TZNAME:EST
DTSTART:20261101T060000
END:STANDARD
BEGIN:DAYLIGHT
TZOFFSETFROM:-0500
TZOFFSETTO:-0400
TZNAME:EDT
DTSTART:20270314T070000
END:DAYLIGHT
BEGIN:STANDARD
TZOFFSETFROM:-0400
TZOFFSETTO:-0500
TZNAME:EST
DTSTART:20271107T060000
END:STANDARD
END:VTIMEZONE
BEGIN:VEVENT
DTSTART;TZID=America/New_York:20260424T190000
DTEND;TZID=America/New_York:20260424T210000
DTSTAMP:20260423T061501
CREATED:20260401T041229Z
LAST-MODIFIED:20260401T041229Z
UID:5371-1777057200-1777064400@www.goodvibeswinery.com
SUMMARY:Live Music with Mark Rhodes
DESCRIPTION:Join us for another amazing Friday night of Live Music with the talented Mark Rhodes! \nThis event is free and open to the public
URL:https://www.goodvibeswinery.com/event/live-music-with-mark-rhodes/
LOCATION:Good Vibes Winery\, 2 S State Street\, Westerville\, OH\, 43081\, United States
CATEGORIES:Live Music
END:VEVENT
BEGIN:VEVENT
DTSTART;TZID=America/New_York:20260425T170000
DTEND;TZID=America/New_York:20260425T190000
DTSTAMP:20260423T061501
CREATED:20260401T041625Z
LAST-MODIFIED:20260401T041625Z
UID:5373-1777136400-1777143600@www.goodvibeswinery.com
SUMMARY:Sips & Sounds: Good Vibes LIVE presents State Street Soul featuring Kim Haffey
DESCRIPTION:State Street Soul is where expressive vocals\, musical range\, and familiar songs come together — a lane of our Sips & Sounds series rooted in warmth\, presence\, and artists who know how to hold a room. This is soul-forward sound with depth\, designed for listening\, sipping\, and settling into the evening on State Street. \nFor this State Street Soul\, we’re featuring Kim Haffey\, a Columbus-based singer\, songwriter\, guitarist\, and bassist known for her soulful vocals and versatile musicianship. Accompanying herself\, Kim moves comfortably through jazz standards\, current hits\, and favorite songs from the past\, creating sets that feel polished\, welcoming\, and easy to enjoy. \nKim has performed at many Columbus events and venues\, including the Columbus Arts Festival\, Columbus Book Festival\, John Prine Festival\, The Ginger Rabbit Jazz Lounge\, and restaurants and patios throughout the city. A graduate of the Baldwin Wallace Conservatory of Music and the University of Toronto\, her musical background spans classical training\, jazz fluency\, and contemporary influence — all delivered with ease and intention. \nJoin us for an early evening of soulful sound\, familiar favorites\, and good company — right at home on State Street. \n✨ We’re always looking to feature musicians across jazz\, soul\, acoustic\, and beyond as part of our Sips & Sounds: Good Vibes Live series. If you’re an artist — or know one — who feels like a fit for the room\, we’d love to hear from you.
URL:https://www.goodvibeswinery.com/event/sips-sounds-good-vibes-live-presents-state-street-soul-featuring-kim-haffey/
LOCATION:Good Vibes Winery\, 2 S State Street\, Westerville\, OH\, 43081\, United States
CATEGORIES:Live Music
END:VEVENT
BEGIN:VEVENT
DTSTART;TZID=America/New_York:20260426T130000
DTEND;TZID=America/New_York:20260426T150000
DTSTAMP:20260423T061501
CREATED:20260413T221755Z
LAST-MODIFIED:20260413T221755Z
UID:5393-1777208400-1777215600@www.goodvibeswinery.com
SUMMARY:Make Fresh Pasta with Chef Beau Cooking Class at Good Vibes Winery
DESCRIPTION:Make fresh fettuccine pasta from scratch in this fun\, hands-on cooking class with Chef Beau.\nDuring this session\, you’ll knead\, roll and cut your own silky noodles while learning the basics of great pasta dough. Once the pasta is ready\, you’ll prepare a classic marinara sauce using tomatoes\, garlic\, basil\, red pepper and Parmesan. The great thing about this session is that you’ll be learning how to bring out the best flavors in each ingredient while making a classic dish that’s both comforting and impressive. And by the end\, you’ll get to enjoy your homemade pasta and sauce and leave with the skills and confidence to make it again at home anytime. Book now!\n\nMENU\nFresh Fettuccine With Classic Marinara SauceWith flour\, eggs\, olive oil\, sea salt\, tomatoes\, garlic\, basil\, red pepper and Parmesan
URL:https://www.goodvibeswinery.com/event/make-fresh-pasta-with-chef-beau-cooking-class-at-good-vibes-winery/
LOCATION:Good Vibes Winery\, 2 S State Street\, Westerville\, OH\, 43081\, United States
CATEGORIES:Cooking Classes
END:VEVENT
BEGIN:VEVENT
DTSTART;TZID=America/New_York:20260501T190000
DTEND;TZID=America/New_York:20260501T210000
DTSTAMP:20260423T061501
CREATED:20260415T164742Z
LAST-MODIFIED:20260415T164742Z
UID:5402-1777662000-1777669200@www.goodvibeswinery.com
SUMMARY:Live Music with Ken Schwartz
DESCRIPTION:Join us for live music with the talented Ken Schwartz! Grab your favorite glass of wine and get ready for some Good Vibes.The event is free and open to the public
URL:https://www.goodvibeswinery.com/event/live-music-with-ken-schwartz/
LOCATION:Good Vibes Winery\, 2 S State Street\, Westerville\, OH\, 43081\, United States
CATEGORIES:Live Music
END:VEVENT
BEGIN:VEVENT
DTSTART;TZID=America/New_York:20260502T180000
DTEND;TZID=America/New_York:20260502T200000
DTSTAMP:20260423T061501
CREATED:20260415T165546Z
LAST-MODIFIED:20260415T165546Z
UID:5404-1777744800-1777752000@www.goodvibeswinery.com
SUMMARY:Sips & Sounds: Good Vibes LIVE presents State Street Soul featuring Mark Rhodes
DESCRIPTION:Join us at Good Vibes Winery for Sips & Sounds: Good Vibes LIVE presents State Street Soul featuring Mark Rhodes. \nColumbus-based multi-instrumentalist\, singer\, and songwriter Mark Rhodes brings a high-energy performance rooted in soul\, funk\, and rock. With over 25 years of experience and a background performing with local favorites like Soulphisticated and New Pollution\, Mark delivers a dynamic set that blends powerful vocals\, skilled musicianship\, and undeniable stage presence. \nWhether he’s on guitar or commanding the mic\, his passion for music shines through in every song—creating an experience that’s as engaging as it is memorable. \nJoin us for a night of live music\, great wine\, and the signature Good Vibes atmosphere. \nThis event is free and open to the public.
URL:https://www.goodvibeswinery.com/event/sips-sounds-good-vibes-live-presents-state-street-soul-featuring-mark-rhodes/
LOCATION:Good Vibes Winery\, 2 S State Street\, Westerville\, OH\, 43081\, United States
CATEGORIES:Live Music
END:VEVENT
BEGIN:VEVENT
DTSTART;TZID=America/New_York:20260507T180000
DTEND;TZID=America/New_York:20260507T200000
DTSTAMP:20260423T061501
CREATED:20260422T143342Z
LAST-MODIFIED:20260422T143342Z
UID:5431-1778176800-1778184000@www.goodvibeswinery.com
SUMMARY:Thursday Live Music with Jesse Bar
DESCRIPTION:Join us at Good Vibes Winery for Thursday Live Music with Jesse Bar. \nA songwriter\, producer\, and dynamic live performer\, Jesse Bar brings a creative and versatile sound shaped by years of experience in the Columbus music scene. Based out of his custom-built recording studio\, Sohud Sounds\, Jesse writes\, records\, and collaborates with some of the city’s top musicians. \nWith influences that span from funk to folk and everything in between\, his live performances offer a laid-back yet engaging mix of musicianship\, originality\, and great energy—making for the perfect night out at the winery. \nGrab a glass of wine\, settle in\, and enjoy an evening of live music and good vibes in the heart of Uptown Westerville. \nThis event is free and open to the public.
URL:https://www.goodvibeswinery.com/event/thursday-live-music-with-jesse-bar/
LOCATION:Good Vibes Winery\, 2 S State Street\, Westerville\, OH\, 43081\, United States
CATEGORIES:Live Music
END:VEVENT
BEGIN:VEVENT
DTSTART;TZID=America/New_York:20260508T190000
DTEND;TZID=America/New_York:20260508T210000
DTSTAMP:20260423T061501
CREATED:20260415T170559Z
LAST-MODIFIED:20260415T170559Z
UID:5406-1778266800-1778274000@www.goodvibeswinery.com
SUMMARY:Live Music with Mike Wolfe
DESCRIPTION:Join us for live music with the talented Mike Wolfe!Grab a glass of your favorite wine and enjoy some Good Vibes.\nThis event is free and open to the public.
URL:https://www.goodvibeswinery.com/event/live-music-with-mike-wolfe-2/
LOCATION:Good Vibes Winery\, 2 S State Street\, Westerville\, OH\, 43081\, United States
CATEGORIES:Live Music
END:VEVENT
BEGIN:VEVENT
DTSTART;TZID=America/New_York:20260509T170000
DTEND;TZID=America/New_York:20260509T190000
DTSTAMP:20260423T061501
CREATED:20260415T170817Z
LAST-MODIFIED:20260415T170817Z
UID:5408-1778346000-1778353200@www.goodvibeswinery.com
SUMMARY:Sips & Sounds: Good Vibes LIVE presents Brickfront Indie featuring Summer Strays
DESCRIPTION:Join us at Good Vibes Winery for Sips & Sounds: Good Vibes LIVE presents Brickfront Indie featuring The Summer Strays. \nFormed in the depths of an Ohio winter\, this Columbus-based trio brings a warm\, easygoing energy to the stage with a sound built around acoustic guitar\, piano\, and rich vocal harmonies. Their set blends indie favorites with timeless classics\, featuring artists like The Head and the Heart\, boygenius\, The Beatles\, Radiohead\, and even a touch of early 2000s pop. \nIt’s the perfect mix of familiar and fresh—ideal for a relaxed night out with great music\, great wine\, and even better company. \nJoin us for an evening of indie vibes and laid-back live music at the winery. \nThis event is free and open to the public
URL:https://www.goodvibeswinery.com/event/sips-sounds-good-vibes-live-presents-brickfront-indie-featuring-summer-strays/
LOCATION:Good Vibes Winery\, 2 S State Street\, Westerville\, OH\, 43081\, United States
CATEGORIES:Live Music
END:VEVENT
BEGIN:VEVENT
DTSTART;TZID=America/New_York:20260514T180000
DTEND;TZID=America/New_York:20260514T193000
DTSTAMP:20260423T061501
CREATED:20260415T171225Z
LAST-MODIFIED:20260415T171225Z
UID:5410-1778781600-1778787000@www.goodvibeswinery.com
SUMMARY:May Book Vibes Book Club
DESCRIPTION:Join us for another cozy evening at Good Vibes Winery for our May Book Vibes Book Club. \nOn Thursday\, May 14th\, we’ll be diving into In Five Years by Rebecca Serle\, a thought-provoking and emotional read that’s sure to spark great conversation. Whether you’ve read every page or are just along for the discussion\, Book Vibes is all about connection\, conversation\, and enjoying a relaxed night out. \nGrab a glass of wine\, settle in\, and join us as we share thoughts\, perspectives\, and a love for reading in true Good Vibes fashion. \nWe can’t wait to see everyone. This event is free and open to everyone. \nHappy Reading!
URL:https://www.goodvibeswinery.com/event/may-book-vibes-book-club/
LOCATION:Good Vibes Winery\, 2 S State Street\, Westerville\, OH\, 43081\, United States
CATEGORIES:Book Club
END:VEVENT
BEGIN:VEVENT
DTSTART;TZID=America/New_York:20260515T190000
DTEND;TZID=America/New_York:20260515T210000
DTSTAMP:20260423T061501
CREATED:20260415T171434Z
LAST-MODIFIED:20260415T171434Z
UID:5412-1778871600-1778878800@www.goodvibeswinery.com
SUMMARY:Live Music with Annie Hawe
DESCRIPTION:Join us on May 15th for a night of music with the talented Annie Hawe! Grab a glass of your favorite wine and enjoy some Good Vibes. \nThis event is free and open to the public.
URL:https://www.goodvibeswinery.com/event/live-music-with-annie-hawe-3/
LOCATION:Good Vibes Winery\, 2 S State Street\, Westerville\, OH\, 43081\, United States
CATEGORIES:Live Music
END:VEVENT
BEGIN:VEVENT
DTSTART;TZID=America/New_York:20260516T180000
DTEND;TZID=America/New_York:20260516T200000
DTSTAMP:20260423T061501
CREATED:20260415T171653Z
LAST-MODIFIED:20260415T171653Z
UID:5414-1778954400-1778961600@www.goodvibeswinery.com
SUMMARY:Sips & Sounds: Good Vibes LIVE presents Brickfront Indie featuring The Bittertones
DESCRIPTION:Join us for Brickfront Indie\, a series rooted in the sound\, texture\, and energy of Uptown Westerville. \nBrickfront Indie is a nod to the historic brick storefronts that define Uptown—where music meets the street\, sound carries through open doors\, and live bands bring a little edge to a walkable\, connected community. This lane is for plugged-in indie rock and genre-bending artists whose music is meant to be felt live—bold\, expressive\, and unapologetically real. \nWe’re kicking off Brickfront Indie with a band that fits the lane perfectly. \nThe Bittertones are an indie rock–meets–eclectic soul band formed in 2018 by singer-songwriter duo Carole Walker and Alan Mauger. Think grit\, groove\, and heart—where raw rock energy collides with soulful melodies and indie edge. Inspired by Alabama Shakes\, Ani DiFranco\, Eurythmics\, Jeff Buckley\, Deftones\, and Sade\, their sound is both fierce and intimate. \nKnown for electrifying live shows at festivals like ComFest and Hot Times\, The Bittertones pull audiences into music that moves the body and stirs the soul. Emotion-driven\, genre-bending\, and unapologetically real\, The Bittertones turn feeling into sound—and sound into connection. \nThis event is free and open to the public
URL:https://www.goodvibeswinery.com/event/sips-sounds-good-vibes-live-presents-brickfront-indie-featuring-the-bittertones/
LOCATION:Good Vibes Winery\, 2 S State Street\, Westerville\, OH\, 43081\, United States
CATEGORIES:Live Music
END:VEVENT
BEGIN:VEVENT
DTSTART;TZID=America/New_York:20260517T120000
DTEND;TZID=America/New_York:20260517T170000
DTSTAMP:20260423T061501
CREATED:20260414T153827Z
LAST-MODIFIED:20260414T154024Z
UID:5397-1779019200-1779037200@www.goodvibeswinery.com
SUMMARY:Uptown Westerville Spring Day Out with Good Vibes Winery\, Westerville Florist\, and Blend Candle Co.
DESCRIPTION:Join Good Vibes Winery\, Blend Candle Co and Westerville Florist on Sunday\, May 17th\, between 12 pm and 5 pm to celebrate all things Spring! \nThis fun event begins by choosing your reservation time and picking your starting location. From there\, enjoy a lively Uptown adventure complete with: \n\nTwo glasses of wine from Good Vibes Winery\nBuild your own Spring Flower Bouquet at Westerville Florist\nCreate a custom scented candle at Blend Candle Co.\nComplimentary lite bites at Good Vibes Winery\nDORA drinks welcome as you stroll Uptown\n\nGrab your ladies and plan the perfect post–Mother’s Day outing! This is a Ticketed event – $78  — don’t miss this unforgettable day out in Uptown Westerville! \nREGISTER HERE
URL:https://www.goodvibeswinery.com/event/uptown-westerville-spring-day-out-with-good-vibes-winery-westerville-florist-and-blend-candle-co/
LOCATION:Good Vibes Winery\, 2 S State Street\, Westerville\, OH\, 43081\, United States
CATEGORIES:Uptown Day Out
END:VEVENT
BEGIN:VEVENT
DTSTART;TZID=America/New_York:20260521T180000
DTEND;TZID=America/New_York:20260521T193000
DTSTAMP:20260423T061501
CREATED:20260422T144122Z
LAST-MODIFIED:20260422T144123Z
UID:5433-1779386400-1779391800@www.goodvibeswinery.com
SUMMARY:Sip & Script- Modern Calligraphy for Beginners at Good Vibes Winery
DESCRIPTION:Join Sip & ScriptⓇ for Modern Calligraphy Fun! \nJoin us at Good Vibes Winery in Westerville\, OH for pretty lettering! Whether you’re a stationery nerd\, DIY Bride-to-be\, or just a crafty individual\, in this workshop you’ll be learning an introduction to modern calligraphy with a pointed dip pen and ink. We will cover all the basics and get you ready to add those special lettered details to your snail mail\, wedding paper goods\, home decor and more! The perfect crafty night out! \nClass includes 1.5 hours of instruction and demonstration\, our beginner’s calligraphy kit (two nibs\, black ink pot\, 2 letter guides\, tracing paper and straight pen holder)\, and all materials to write on. Everything is yours to keep at the end of the workshop! \nGet your tickets \nFeel free to come early\, grab your seat\, and purchase any food or drinks (food and drinks available to purchase throughout class too!). Class will start promptly at 6:00 PM! Public parking lot across the street\, behind Generations Performing Arts Center.  \nClass Expectations: Yes\, lefties are welcome too! This class is encouraged for someone who has never taken a calligraphy class before. We teach the basics and our expectation for you is to have ink flowing through your nib with enough confidence to be able to practice way beyond class. We love using tracing paper with our guides to help you build muscle memory and develop your own style!  If you have tried calligraphy out before\, this class will be a great refresher and hopefully a chance to try some new supplies from our beginner kit that will re-introduce you to this lovely form of art! \nA note on bringing guests 16 and under: We love to share this passion with kids. You are welcome to get a ticket for your child as long as you are comfortable with people around them having a drink or two. We do ask that anyone under the age of 16 is to be accompanied by a ticketed adult at all times. \nGet your tickets 
URL:https://www.goodvibeswinery.com/event/sip-script-modern-calligraphy-for-beginners-at-good-vibes-winery/
LOCATION:Good Vibes Winery\, 2 S State Street\, Westerville\, OH\, 43081\, United States
CATEGORIES:Sip & Script
END:VEVENT
BEGIN:VEVENT
DTSTART;TZID=America/New_York:20260522T170000
DTEND;TZID=America/New_York:20260522T210000
DTSTAMP:20260423T061501
CREATED:20260422T150023Z
LAST-MODIFIED:20260422T150023Z
UID:5436-1779469200-1779483600@www.goodvibeswinery.com
SUMMARY:Uptown Westerville Fourth Fridays at Good Vibes Winery
DESCRIPTION:Join us for the return of one of Uptown’s favorite traditions—Fourth Fridays are back\, and we’re excited to be open and part of the fun at Good Vibes Winery. \nAs State Street closes down and historic Uptown Westerville comes alive\, the community is invited to enjoy an evening filled with live entertainment\, food trucks\, pop-up vendors\, local shopping\, and the vibrant energy that makes Fourth Fridays so special. From concerts and family activities to street performers and unique finds around every corner\, there’s something for everyone to enjoy. \nAdults can also take advantage of Uptown’s Designated Outdoor Refreshment Area\, making it the perfect chance to stop in\, grab your favorite Good Vibes wine\, and stroll through all the excitement with a drink in hand. \nWhether you’re making us your first stop\, taking a break from exploring\, or ending the night with a glass\, we’re ready to welcome you for an unforgettable evening in Uptown. \nJoin us for May Fourth Friday: Art Hop and kick off the season with great wine and good vibes. \nLearn more here
URL:https://www.goodvibeswinery.com/event/uptown-westerville-fourth-fridays-at-good-vibes-winery/
LOCATION:Good Vibes Winery\, 2 S State Street\, Westerville\, OH\, 43081\, United States
CATEGORIES:Fourth Fridays
END:VEVENT
BEGIN:VEVENT
DTSTART;TZID=America/New_York:20260523T170000
DTEND;TZID=America/New_York:20260523T190000
DTSTAMP:20260423T061501
CREATED:20260415T172449Z
LAST-MODIFIED:20260415T172449Z
UID:5416-1779555600-1779562800@www.goodvibeswinery.com
SUMMARY:Sips & Sounds: Good Vibes LIVE presents Smooth Sounds on State Street featuring Micheal Ulrey
DESCRIPTION:Join us at Good Vibes Winery for Sips & Sounds: Good Vibes LIVE presents Smooth Sounds on State Street featuring Michael Ulrey. \nA multi-instrumentalist\, composer\, and seasoned performer\, Michael Ulrey brings a rich\, genre-blending sound rooted in Americana\, folk-blues\, and ambient influences. With decades of experience and a wide range of instruments including guitar\, flute\, and percussion\, his music creates a thoughtful and immersive listening experience. \nDrawing from Appalachian\, Native American\, and Celtic roots\, Michael’s performances are both reflective and expressive—perfect for a relaxed evening at the winery. \nUnwind with a glass of wine and enjoy a night of smooth\, soulful sound in the heart of Uptown. \nThis event is free and open to the public.
URL:https://www.goodvibeswinery.com/event/sips-sounds-good-vibes-live-presents-smooth-sounds-on-state-street-featuring-micheal-ulrey/
LOCATION:Good Vibes Winery\, 2 S State Street\, Westerville\, OH\, 43081\, United States
CATEGORIES:Live Music
END:VEVENT
BEGIN:VEVENT
DTSTART;TZID=America/New_York:20260528T180000
DTEND;TZID=America/New_York:20260528T200000
DTSTAMP:20260423T061501
CREATED:20260415T173320Z
LAST-MODIFIED:20260415T173320Z
UID:5418-1779991200-1779998400@www.goodvibeswinery.com
SUMMARY:Thursday Live Music featuring Two for One
DESCRIPTION:Join us for Live Music on Thursday\, May 28th\, featuring the acoustic duo Two for One\, which features Terri Owens on vocals and Bob Piascik on guitar and vocals. This group sings a huge variety of songs\, old and new\, from Patsy Cline and Linda Ronstadt to Taylor Swift and Miley Cyrus. Hits from the 70’s\, 80’s\, and 90’s from Fleetwood Mac\, the Human League\, and Avril Lavigne\, along with your requested sing-along favorites for your listening enjoyment. Don’t miss it! \nThis event is free and open to the public
URL:https://www.goodvibeswinery.com/event/thursday-live-music-featuring-two-for-one/
LOCATION:Good Vibes Winery\, 2 S State Street\, Westerville\, OH\, 43081\, United States
CATEGORIES:Live Music
END:VEVENT
BEGIN:VEVENT
DTSTART;TZID=America/New_York:20260529T190000
DTEND;TZID=America/New_York:20260529T210000
DTSTAMP:20260423T061501
CREATED:20260415T173530Z
LAST-MODIFIED:20260415T173530Z
UID:5420-1780081200-1780088400@www.goodvibeswinery.com
SUMMARY:Live Music with Mike Raymond
DESCRIPTION:Join us Friday\, May 29th for live music with the talented Mike Raymond. We’re looking forward to a night of good times and good vibes!\nThis event is free and open to the public.
URL:https://www.goodvibeswinery.com/event/live-music-with-mike-raymond-2/
LOCATION:Good Vibes Winery\, 2 S State Street\, Westerville\, OH\, 43081\, United States
CATEGORIES:Live Music
END:VEVENT
BEGIN:VEVENT
DTSTART;TZID=America/New_York:20260530T180000
DTEND;TZID=America/New_York:20260530T200000
DTSTAMP:20260423T061501
CREATED:20260422T150633Z
LAST-MODIFIED:20260422T150901Z
UID:5439-1780164000-1780171200@www.goodvibeswinery.com
SUMMARY:Sips & Sounds: Good Vibes LIVE presents Unplugged Uptown ft. Skott Brown
DESCRIPTION:Join us at Good Vibes Winery for Sips & Sounds: Good Vibes LIVE presents Unplugged Uptown featuring Skott Brown. \nA true creative force in the Columbus music scene\, Skott Brown is a multi-instrumentalist\, composer\, and songwriter known for bringing energy\, originality\, and artistry to every performance. With a focus on fiddle and his one-of-a-kind custom Harp Mandolimba—crafted from recycled piano parts—Skott delivers a sound and stage presence that is unlike anything else. \nAfter performing throughout Central Ohio for more than fifteen years with a variety of groups and solo projects\, Skott’s live sets blend original songs\, instrumentals\, and familiar favorites into a colorful and engaging musical experience. \nUnplugged Uptown is the perfect setting to experience his unique style in an intimate\, laid-back atmosphere. Grab a glass of wine\, settle in\, and enjoy an evening of live music\, creativity\, and good vibes in the heart of Uptown Westerville. \nThis event is free and open to the public.
URL:https://www.goodvibeswinery.com/event/sips-sounds-good-vibes-live-presents-unplugged-uptown-ft-skott-brown/
LOCATION:Good Vibes Winery\, 2 S State Street\, Westerville\, OH\, 43081\, United States
CATEGORIES:Live Music
END:VEVENT
END:VCALENDAR